BEGIN:VCALENDAR
VERSION:2.0
PRODID:-//Squarespace Inc/Squarespace 6//v6//EN
BEGIN:VEVENT
UID:57beab06e58c62676f242839@squarespace.com
DTSTAMP:20160825T082628Z
DTSTART:20160910T173000Z
DTEND:20160911T143000Z
SUMMARY:Hall Hire
END:VEVENT
END:VCALENDAR
