BEGIN:VCALENDAR
VERSION:2.0
PRODID:-//Squarespace Inc/Squarespace 6//v6//EN
BEGIN:VEVENT
UID:55eff36de4b065c5b91a3303@squarespace.com
DTSTAMP:20160825T082257Z
DTSTART:20160901T213000Z
DTEND:20160902T003000Z
SUMMARY:Hall hire
END:VEVENT
END:VCALENDAR
