BEGIN:VCALENDAR
VERSION:2.0
PRODID:-//Squarespace Inc/Squarespace 6//v6//EN
BEGIN:VEVENT
UID:56efb439b09f9543364acc21@squarespace.com
DTSTAMP:20160321T084425Z
DTSTART:20160514T130000Z
DTEND:20160514T210000Z
SUMMARY:WBLSC Chairs Meeting
END:VEVENT
END:VCALENDAR
