BEGIN:VCALENDAR
VERSION:2.0
PRODID:-//Squarespace Inc/Squarespace 6//v6//EN
BEGIN:VEVENT
UID:56cac7a8859fd07d71c076ea@squarespace.com
DTSTAMP:20160222T083405Z
DTSTART:20160408T210000Z
DTEND:20160409T010000Z
SUMMARY:WBLSC Prizegiving
END:VEVENT
END:VCALENDAR
