BEGIN:VCALENDAR
VERSION:2.0
PRODID:-//Squarespace Inc/Squarespace 6//v6//EN
BEGIN:VEVENT
UID:56efb3e607eaa03c32fa0086@squarespace.com
DTSTAMP:20160321T084250Z
DTSTART:20160426T130000Z
DTEND:20160426T210000Z
SUMMARY:Hall hire
END:VEVENT
END:VCALENDAR
