BEGIN:VCALENDAR
VERSION:2.0
PRODID:-//Squarespace Inc/Squarespace 6//v6//EN
BEGIN:VEVENT
UID:55efc7ebe4b08a4b89b9630f@squarespace.com
DTSTAMP:20160222T083527Z
DTSTART:20160302T230000Z
DTEND:20160305T150000Z
SUMMARY:Hall Hire
END:VEVENT
END:VCALENDAR
