BEGIN:VCALENDAR
VERSION:2.0
PRODID:-//Squarespace Inc/Squarespace 6//v6//EN
BEGIN:VEVENT
UID:56efb415b09f9543364acbcb@squarespace.com
DTSTAMP:20160321T084325Z
DTSTART:20160427T130000Z
DTEND:20160427T210000Z
SUMMARY:Hall hire
END:VEVENT
END:VCALENDAR
