BEGIN:VCALENDAR
VERSION:2.0
PRODID:-//Squarespace Inc/Squarespace 6//v6//EN
BEGIN:VEVENT
UID:564c2fd1e4b02e3dc74c9aa3@squarespace.com
DTSTAMP:20151118T075941Z
DTSTART:20160220T170000Z
DTEND:20160221T170000Z
SUMMARY:Hall hire
END:VEVENT
END:VCALENDAR
