BEGIN:VCALENDAR
VERSION:2.0
PRODID:-//Squarespace Inc/Squarespace 6//v6//EN
BEGIN:VEVENT
UID:56b59219356fb0f0cf30c693@squarespace.com
DTSTAMP:20160206T062716Z
DTSTART:20160213T213000Z
DTEND:20160214T033000Z
SUMMARY:Hall hire
END:VEVENT
END:VCALENDAR
