BEGIN:VCALENDAR
VERSION:2.0
PRODID:-//Squarespace Inc/Squarespace 6//v6//EN
BEGIN:VEVENT
UID:584e24036b8f5bf2d3ed4003@squarespace.com
DTSTAMP:20161212T042650Z
DTSTART:20161231T190000Z
DTEND:20170101T150000Z
SUMMARY:Venue Hire
END:VEVENT
END:VCALENDAR
