BEGIN:VCALENDAR
VERSION:2.0
PRODID:-//Squarespace Inc/Squarespace 6//v6//EN
BEGIN:VEVENT
UID:584e4fbb6b8f5bf2d3eef174@squarespace.com
DTSTAMP:20161212T072159Z
DTSTART:20161218T140000Z
DTEND:20161218T220000Z
SUMMARY:WORSER BAY JUNIOR SURF CARNIVAL
END:VEVENT
END:VCALENDAR
