BEGIN:VCALENDAR
VERSION:2.0
PRODID:-//Squarespace Inc/Squarespace 6//v6//EN
BEGIN:VEVENT
UID:584e20d415d5dbc7c8b4d7a0@squarespace.com
DTSTAMP:20161212T041207Z
DTSTART:20161216T180000Z
DTEND:20161216T230000Z
SUMMARY:Venue Hire
END:VEVENT
END:VCALENDAR
