BEGIN:VCALENDAR
VERSION:2.0
PRODID:-//Squarespace Inc/Squarespace 6//v6//EN
BEGIN:VEVENT
UID:57cd4414e6f2e1669718c916@squarespace.com
DTSTAMP:20160905T100909Z
DTSTART:20161120T140000Z
DTEND:20161120T220000Z
SUMMARY:WORSER BAY JUNIOR CARNIVAL
END:VEVENT
END:VCALENDAR
