BEGIN:VCALENDAR
VERSION:2.0
PRODID:-//Squarespace Inc/Squarespace 6//v6//EN
BEGIN:VEVENT
UID:57beabedff7c507ea1cc1855@squarespace.com
DTSTAMP:20161212T042151Z
DTSTART:20161119T183000Z
DTEND:20161120T130000Z
SUMMARY:Venue Hire
END:VEVENT
END:VCALENDAR
