BEGIN:VCALENDAR
VERSION:2.0
PRODID:-//Squarespace Inc/Squarespace 6//v6//EN
BEGIN:VEVENT
UID:57cd420c2994ca4d3c185745@squarespace.com
DTSTAMP:20161212T042211Z
DTSTART:20161116T140000Z
DTEND:20161116T200000Z
SUMMARY:Venue Hire (Beach Education)
END:VEVENT
END:VCALENDAR
