BEGIN:VCALENDAR
VERSION:2.0
PRODID:-//Squarespace Inc/Squarespace 6//v6//EN
BEGIN:VEVENT
UID:57cd41d92994ca4d3c185633@squarespace.com
DTSTAMP:20161212T042229Z
DTSTART:20161115T140000Z
DTEND:20161115T200000Z
SUMMARY:Venue Hire (Beach Education)
END:VEVENT
END:VCALENDAR
