BEGIN:VCALENDAR
VERSION:2.0
PRODID:-//Squarespace Inc/Squarespace 6//v6//EN
BEGIN:VEVENT
UID:57cd419437c58169970570f6@squarespace.com
DTSTAMP:20161212T042252Z
DTSTART:20161114T140000Z
DTEND:20161114T200000Z
SUMMARY:Venue Hire (Beach Education)
END:VEVENT
END:VCALENDAR
