BEGIN:VCALENDAR
VERSION:2.0
PRODID:-//Squarespace Inc/Squarespace 6//v6//EN
BEGIN:VEVENT
UID:57beabbd2e69cf03dcdfbd39@squarespace.com
DTSTAMP:20160825T082716Z
DTSTART:20161112T170000Z
DTEND:20161113T153000Z
SUMMARY:Hall Hire
END:VEVENT
END:VCALENDAR
