BEGIN:VCALENDAR
VERSION:2.0
PRODID:-//Squarespace Inc/Squarespace 6//v6//EN
BEGIN:VEVENT
UID:5697588357eb8d70a2c874a5@squarespace.com
DTSTAMP:20160114T081323Z
DTSTART:20160123T190000Z
DTEND:20160124T150000Z
SUMMARY:Hall hire
END:VEVENT
END:VCALENDAR
