BEGIN:VCALENDAR
VERSION:2.0
PRODID:-//Squarespace Inc/Squarespace 6//v6//EN
BEGIN:VEVENT
UID:569758495827c3e6d2cad2b3@squarespace.com
DTSTAMP:20160114T081230Z
DTSTART:20160116T190000Z
DTEND:20160117T150000Z
SUMMARY:Hall hire
END:VEVENT
END:VCALENDAR
