BEGIN:VCALENDAR
VERSION:2.0
PRODID:-//Squarespace Inc/Squarespace 6//v6//EN
BEGIN:VEVENT
UID:55e2bb9be4b0623149a3329a@squarespace.com
DTSTAMP:20150830T081533Z
DTSTART:20150829T083000Z
DTEND:20150829T213000Z
SUMMARY:Event
END:VEVENT
END:VCALENDAR
