BEGIN:VCALENDAR
VERSION:2.0
PRODID:-//Squarespace Inc/Squarespace 6//v6//EN
BEGIN:VEVENT
UID:563b1d73e4b0d4f2c9bb77d0@squarespace.com
DTSTAMP:20151105T091248Z
DTSTART:20151208T160000Z
DTEND:20151208T200000Z
SUMMARY:Hall hire
END:VEVENT
END:VCALENDAR
