BEGIN:VCALENDAR
VERSION:2.0
PRODID:-//Squarespace Inc/Squarespace 6//v6//EN
BEGIN:VEVENT
UID:564c2fa4e4b07e339b514597@squarespace.com
DTSTAMP:20151118T075902Z
DTSTART:20151208T200000Z
DTEND:20151209T033000Z
SUMMARY:Hall hire
END:VEVENT
END:VCALENDAR
