BEGIN:VCALENDAR
VERSION:2.0
PRODID:-//Squarespace Inc/Squarespace 6//v6//EN
BEGIN:VEVENT
UID:563b1d37e4b07a1a20b500f2@squarespace.com
DTSTAMP:20151105T091208Z
DTSTART:20151207T160000Z
DTEND:20151207T200000Z
SUMMARY:Hall hire
END:VEVENT
END:VCALENDAR
