BEGIN:VCALENDAR
VERSION:2.0
PRODID:-//Squarespace Inc/Squarespace 6//v6//EN
BEGIN:VEVENT
UID:565c16cae4b0c668da6d900d@squarespace.com
DTSTAMP:20151130T092913Z
DTSTART:20151205T183000Z
DTEND:20151205T213000Z
SUMMARY:Hall hire
END:VEVENT
END:VCALENDAR
