BEGIN:VCALENDAR
VERSION:2.0
PRODID:-//Squarespace Inc/Squarespace 6//v6//EN
BEGIN:VEVENT
UID:56289cede4b052cf19174b61@squarespace.com
DTSTAMP:20151022T082536Z
DTSTART:20151204T180000Z
DTEND:20151205T010000Z
SUMMARY:Hall hire
END:VEVENT
END:VCALENDAR
