BEGIN:VCALENDAR
VERSION:2.0
PRODID:-//Squarespace Inc/Squarespace 6//v6//EN
BEGIN:VEVENT
UID:5679104e1c121003acae4f43@squarespace.com
DTSTAMP:20151222T085812Z
DTSTART:20151231T220000Z
DTEND:20160101T160000Z
SUMMARY:Hall hire
END:VEVENT
END:VCALENDAR
