BEGIN:VCALENDAR
VERSION:2.0
PRODID:-//Squarespace Inc/Squarespace 6//v6//EN
BEGIN:VEVENT
UID:55eff597e4b0a40c418146b5@squarespace.com
DTSTAMP:20150909T090235Z
DTSTART:20151203T223000Z
DTEND:20151204T003000Z
SUMMARY:Hall hire
END:VEVENT
END:VCALENDAR
