BEGIN:VCALENDAR
VERSION:2.0
PRODID:-//Squarespace Inc/Squarespace 6//v6//EN
BEGIN:VEVENT
UID:563b1e8ae4b0d4f2c9bb7b8a@squarespace.com
DTSTAMP:20151105T091733Z
DTSTART:20151217T160000Z
DTEND:20151217T200000Z
SUMMARY:Hall hire
END:VEVENT
END:VCALENDAR
