BEGIN:VCALENDAR
VERSION:2.0
PRODID:-//Squarespace Inc/Squarespace 6//v6//EN
BEGIN:VEVENT
UID:563b1e68e4b0d4f2c9bb7b1a@squarespace.com
DTSTAMP:20151105T091647Z
DTSTART:20151216T160000Z
DTEND:20151216T200000Z
SUMMARY:Hall hire
END:VEVENT
END:VCALENDAR
