BEGIN:VCALENDAR
VERSION:2.0
PRODID:-//Squarespace Inc/Squarespace 6//v6//EN
BEGIN:VEVENT
UID:563b1e47e4b0d4f2c9bb7a8a@squarespace.com
DTSTAMP:20151105T091613Z
DTSTART:20151215T160000Z
DTEND:20151215T200000Z
SUMMARY:Hall hire
END:VEVENT
END:VCALENDAR
