BEGIN:VCALENDAR
VERSION:2.0
PRODID:-//Squarespace Inc/Squarespace 6//v6//EN
BEGIN:VEVENT
UID:563b1e23e4b0d4f2c9bb79fd@squarespace.com
DTSTAMP:20151105T091542Z
DTSTART:20151214T160000Z
DTEND:20151214T200000Z
SUMMARY:Hall hire
END:VEVENT
END:VCALENDAR
