BEGIN:VCALENDAR
VERSION:2.0
PRODID:-//Squarespace Inc/Squarespace 6//v6//EN
BEGIN:VEVENT
UID:55efc7c6e4b0a4ee627cc6dd@squarespace.com
DTSTAMP:20150909T091213Z
DTSTART:20151212T140000Z
DTEND:20151212T220000Z
SUMMARY:Hall Hire
END:VEVENT
END:VCALENDAR
