BEGIN:VCALENDAR
VERSION:2.0
PRODID:-//Squarespace Inc/Squarespace 6//v6//EN
BEGIN:VEVENT
UID:563b1face4b0e0b24e453c68@squarespace.com
DTSTAMP:20151105T092217Z
DTSTART:20151211T160000Z
DTEND:20151211T200000Z
SUMMARY:Hall hire
END:VEVENT
END:VCALENDAR
