BEGIN:VCALENDAR
VERSION:2.0
PRODID:-//Squarespace Inc/Squarespace 6//v6//EN
BEGIN:VEVENT
UID:55eff5b8e4b0b0b3fba28c0b@squarespace.com
DTSTAMP:20150909T090308Z
DTSTART:20151210T223000Z
DTEND:20151211T003000Z
SUMMARY:Hall hire
END:VEVENT
END:VCALENDAR
