BEGIN:VCALENDAR
VERSION:2.0
PRODID:-//Squarespace Inc/Squarespace 6//v6//EN
BEGIN:VEVENT
UID:563b1dc3e4b0d4f2c9bb78c0@squarespace.com
DTSTAMP:20151105T091417Z
DTSTART:20151210T160000Z
DTEND:20151210T200000Z
SUMMARY:Hall hire
END:VEVENT
END:VCALENDAR
