BEGIN:VCALENDAR
VERSION:2.0
PRODID:-//Squarespace Inc/Squarespace 6//v6//EN
BEGIN:VEVENT
UID:563b1cbce4b075afff1a2b27@squarespace.com
DTSTAMP:20151105T090956Z
DTSTART:20151106T160000Z
DTEND:20151106T200000Z
SUMMARY:Hall hire
END:VEVENT
END:VCALENDAR
