BEGIN:VCALENDAR
VERSION:2.0
PRODID:-//Squarespace Inc/Squarespace 6//v6//EN
BEGIN:VEVENT
UID:55eff508e4b09babcd2919ab@squarespace.com
DTSTAMP:20150909T090014Z
DTSTART:20151105T223000Z
DTEND:20151106T003000Z
SUMMARY:Hall hire
END:VEVENT
END:VCALENDAR
