BEGIN:VCALENDAR
VERSION:2.0
PRODID:-//Squarespace Inc/Squarespace 6//v6//EN
BEGIN:VEVENT
UID:55efc796e4b09c3010211a19@squarespace.com
DTSTAMP:20150909T054634Z
DTSTART:20151128T180000Z
DTEND:20151128T210000Z
SUMMARY:Hall Hire
END:VEVENT
END:VCALENDAR
