BEGIN:VCALENDAR
VERSION:2.0
PRODID:-//Squarespace Inc/Squarespace 6//v6//EN
BEGIN:VEVENT
UID:55eff580e4b0cfadf410da2f@squarespace.com
DTSTAMP:20150909T090207Z
DTSTART:20151126T223000Z
DTEND:20151127T003000Z
SUMMARY:Hall hire
END:VEVENT
END:VCALENDAR
