BEGIN:VCALENDAR
VERSION:2.0
PRODID:-//Squarespace Inc/Squarespace 6//v6//EN
BEGIN:VEVENT
UID:564c2f5ee4b0aeb501e2ddcb@squarespace.com
DTSTAMP:20151118T075815Z
DTSTART:20151121T003000Z
DTEND:20151121T040000Z
SUMMARY:Hall hire
END:VEVENT
END:VCALENDAR
