BEGIN:VCALENDAR
VERSION:2.0
PRODID:-//Squarespace Inc/Squarespace 6//v6//EN
BEGIN:VEVENT
UID:55eff563e4b0e4faa5a36c10@squarespace.com
DTSTAMP:20150909T090140Z
DTSTART:20151119T223000Z
DTEND:20151120T003000Z
SUMMARY:Hall hire
END:VEVENT
END:VCALENDAR
