BEGIN:VCALENDAR
VERSION:2.0
PRODID:-//Squarespace Inc/Squarespace 6//v6//EN
BEGIN:VEVENT
UID:55efc5ace4b08a69bf55f0d5@squarespace.com
DTSTAMP:20150909T054424Z
DTSTART:20151114T170000Z
DTEND:20151115T050000Z
SUMMARY:Hall Hire
END:VEVENT
END:VCALENDAR
