BEGIN:VCALENDAR
VERSION:2.0
PRODID:-//Squarespace Inc/Squarespace 6//v6//EN
BEGIN:VEVENT
UID:55eff547e4b0b4a9db97507d@squarespace.com
DTSTAMP:20150909T090111Z
DTSTART:20151112T223000Z
DTEND:20151113T003000Z
SUMMARY:Hall hire
END:VEVENT
END:VCALENDAR
