BEGIN:VCALENDAR
VERSION:2.0
PRODID:-//Squarespace Inc/Squarespace 6//v6//EN
BEGIN:VEVENT
UID:55efc616e4b0f97708b8b83a@squarespace.com
DTSTAMP:20150909T085200Z
DTSTART:20151004T130000Z
DTEND:20151004T210000Z
SUMMARY:Hall Hire
END:VEVENT
END:VCALENDAR
