BEGIN:VCALENDAR
VERSION:2.0
PRODID:-//Squarespace Inc/Squarespace 6//v6//EN
BEGIN:VEVENT
UID:55eff4dde4b0fd8857a8fb7b@squarespace.com
DTSTAMP:20150909T085938Z
DTSTART:20151029T213000Z
DTEND:20151029T233000Z
SUMMARY:Hall hire
END:VEVENT
END:VCALENDAR
