BEGIN:VCALENDAR
VERSION:2.0
PRODID:-//Squarespace Inc/Squarespace 6//v6//EN
BEGIN:VEVENT
UID:56289c81e4b0177c9d383440@squarespace.com
DTSTAMP:20151022T082638Z
DTSTART:20151026T123000Z
DTEND:20151026T200000Z
SUMMARY:Hall hire
END:VEVENT
END:VCALENDAR
