BEGIN:VCALENDAR
VERSION:2.0
PRODID:-//Squarespace Inc/Squarespace 6//v6//EN
BEGIN:VEVENT
UID:55eff3abe4b0a40c4181427a@squarespace.com
DTSTAMP:20150909T085529Z
DTSTART:20151025T130000Z
DTEND:20151025T210000Z
SUMMARY:Hall hire
END:VEVENT
END:VCALENDAR
