BEGIN:VCALENDAR
VERSION:2.0
PRODID:-//Squarespace Inc/Squarespace 6//v6//EN
BEGIN:VEVENT
UID:55eff4a9e4b0b0b3fba28996@squarespace.com
DTSTAMP:20150909T085859Z
DTSTART:20151022T213000Z
DTEND:20151022T233000Z
SUMMARY:Hall hire
END:VEVENT
END:VCALENDAR
