BEGIN:VCALENDAR
VERSION:2.0
PRODID:-//Squarespace Inc/Squarespace 6//v6//EN
BEGIN:VEVENT
UID:55efc74ce4b099741345f552@squarespace.com
DTSTAMP:20150909T054521Z
DTSTART:20151018T130000Z
DTEND:20151018T210000Z
SUMMARY:Hall Hire
END:VEVENT
END:VCALENDAR
